BEGIN:VCALENDAR
VERSION:2.0
PRODID:-//Dachorganisation Wiesbadener Karneval 1950 e.V. - ECPv6.15.18//NONSGML v1.0//EN
CALSCALE:GREGORIAN
METHOD:PUBLISH
X-WR-CALNAME:Dachorganisation Wiesbadener Karneval 1950 e.V.
X-ORIGINAL-URL:https://dacho-wiesbaden.de
X-WR-CALDESC:Veranstaltungen für Dachorganisation Wiesbadener Karneval 1950 e.V.
REFRESH-INTERVAL;VALUE=DURATION:PT1H
X-Robots-Tag:noindex
X-PUBLISHED-TTL:PT1H
BEGIN:VTIMEZONE
TZID:Europe/Berlin
BEGIN:DAYLIGHT
TZOFFSETFROM:+0100
TZOFFSETTO:+0200
TZNAME:CEST
DTSTART:20250330T010000
END:DAYLIGHT
BEGIN:STANDARD
TZOFFSETFROM:+0200
TZOFFSETTO:+0100
TZNAME:CET
DTSTART:20251026T010000
END:STANDARD
BEGIN:DAYLIGHT
TZOFFSETFROM:+0100
TZOFFSETTO:+0200
TZNAME:CEST
DTSTART:20260329T010000
END:DAYLIGHT
BEGIN:STANDARD
TZOFFSETFROM:+0200
TZOFFSETTO:+0100
TZNAME:CET
DTSTART:20261025T010000
END:STANDARD
BEGIN:DAYLIGHT
TZOFFSETFROM:+0100
TZOFFSETTO:+0200
TZNAME:CEST
DTSTART:20270328T010000
END:DAYLIGHT
BEGIN:STANDARD
TZOFFSETFROM:+0200
TZOFFSETTO:+0100
TZNAME:CET
DTSTART:20271031T010000
END:STANDARD
BEGIN:DAYLIGHT
TZOFFSETFROM:+0100
TZOFFSETTO:+0200
TZNAME:CEST
DTSTART:20280326T010000
END:DAYLIGHT
BEGIN:STANDARD
TZOFFSETFROM:+0200
TZOFFSETTO:+0100
TZNAME:CET
DTSTART:20281029T010000
END:STANDARD
END:VTIMEZONE
BEGIN:VEVENT
DTSTART;TZID=Europe/Berlin:20261108T110000
DTEND;TZID=Europe/Berlin:20261108T110000
DTSTAMP:20260421T104128
CREATED:20260225T150735Z
LAST-MODIFIED:20260225T151335Z
UID:4560-1794135600-1794135600@dacho-wiesbaden.de
SUMMARY:DACHO Ordensfest
DESCRIPTION:Das Ordensfest der DACHO für die Kampagne 2026 / 2027 – nur geladene Gäste
URL:https://dacho-wiesbaden.de/termine/dacho-ordensfest/
LOCATION:Rathaus Wiesbaden\, Schlossplatz 6\, Wiesbaden\, 65183
END:VEVENT
BEGIN:VEVENT
DTSTART;TZID=Europe/Berlin:20261111T111100
DTEND;TZID=Europe/Berlin:20261111T111100
DTSTAMP:20260421T104128
CREATED:20260225T152148Z
LAST-MODIFIED:20260225T153443Z
UID:4565-1794395460-1794395460@dacho-wiesbaden.de
SUMMARY:Fahnenhissung
DESCRIPTION:
URL:https://dacho-wiesbaden.de/termine/fahnenhissung/
LOCATION:Rathaus Wiesbaden\, Schlossplatz 6\, Wiesbaden\, 65183
ATTACH;FMTTYPE=image/jpeg:https://dacho-wiesbaden.de/wp-content/uploads/2026/02/dacho-rathaus-cloud-wonder-2-2x.jpg
END:VEVENT
BEGIN:VEVENT
DTSTART;TZID=Europe/Berlin:20261111T153300
DTEND;TZID=Europe/Berlin:20261111T153300
DTSTAMP:20260421T104128
CREATED:20260225T152448Z
LAST-MODIFIED:20260225T153417Z
UID:4567-1794411180-1794411180@dacho-wiesbaden.de
SUMMARY:Inthronisation Kinderprinzenpaar
DESCRIPTION:
URL:https://dacho-wiesbaden.de/termine/inthronisation-kinderprinzenpaar/
LOCATION:LuisenForum\, Kirchgasse 6\, Wiesbaden\, 65185
ATTACH;FMTTYPE=image/jpeg:https://dacho-wiesbaden.de/wp-content/uploads/2026/02/Inthronisierung-vom-Kinderprinzenpaar_22-23.jpg
END:VEVENT
BEGIN:VEVENT
DTSTART;TZID=Europe/Berlin:20270206T153300
DTEND;TZID=Europe/Berlin:20270206T153300
DTSTAMP:20260421T104128
CREATED:20260225T154025Z
LAST-MODIFIED:20260225T174035Z
UID:4578-1801927980-1801927980@dacho-wiesbaden.de
SUMMARY:Kinderumzug 2027
DESCRIPTION:
URL:https://dacho-wiesbaden.de/termine/kinderumzug-2027/
LOCATION:Rathaus Wiesbaden\, Schlossplatz 6\, Wiesbaden\, 65183
END:VEVENT
BEGIN:VEVENT
DTSTART;TZID=Europe/Berlin:20270207T080000
DTEND;TZID=Europe/Berlin:20270207T121100
DTSTAMP:20260421T104128
CREATED:20260225T153811Z
LAST-MODIFIED:20260225T153811Z
UID:4574-1801987200-1802002260@dacho-wiesbaden.de
SUMMARY:Fastnachtssonntagszug 2027
DESCRIPTION:
URL:https://dacho-wiesbaden.de/termine/fastnachtssonntagszug-2027/
END:VEVENT
BEGIN:VEVENT
DTSTART;TZID=Europe/Berlin:20270220T160000
DTEND;TZID=Europe/Berlin:20270220T160000
DTSTAMP:20260421T104128
CREATED:20260225T121350Z
LAST-MODIFIED:20260225T152051Z
UID:4552-1803139200-1803139200@dacho-wiesbaden.de
SUMMARY:DACHO Prunksitzung 2027
DESCRIPTION:Preiskategorien:\n– Parkett I. 36\,00 €\n– Rang Loge 33\,00 €\n– Rang / Tisch 32\,00 €\n– Rang Klappsessel (Kl.Sessel) 16\,00 €\n(zzgl. 1\,00 € für Porto + Versand pro Bestellung)
URL:https://dacho-wiesbaden.de/termine/dacho-prunksitzung/
LOCATION:Kurhaus Wiesbaden\, Kurhauspl. 1\, Wiesbaden\, 65189\, Germany
ATTACH;FMTTYPE=image/jpeg:https://dacho-wiesbaden.de/wp-content/uploads/2026/02/5d9a0625_54339907505_o-scaled.jpg
END:VEVENT
END:VCALENDAR